BEGIN:VCALENDAR
VERSION:2.0
PRODID:-//wp-events-plugin.com//7.2.3.1//EN
TZID:Europe/Zurich
X-WR-TIMEZONE:Europe/Zurich
BEGIN:VEVENT
UID:137@begegnungszentrum-cura.ch
DTSTART;TZID=Europe/Zurich:20250430T140000
DTEND;TZID=Europe/Zurich:20250521T153000
DTSTAMP:20250327T152912Z
URL:https://www.begegnungszentrum-cura.ch/events/aus-dem-kopf-in-den-koerp
 er/
SUMMARY:Aus dem Kopf in den Körper
DESCRIPTION:Ein tanz- und bewegungstherapeutisches Angebot\nWillst du den A
 lltagsstress abschütteln und über deinen Körper neue Ressourcen entdeck
 en? \n\nErfahre die Einzigartigkeit deines Körpers im Tanz und nimm wahr\
 , was dir dein Körper erzählt.\nErlebe dich verbunden mit anderen Mensch
 en über die gemeinsame Erfahrung im Tanz.\n\nIm Zentrum stehen die Bewegu
 ng und der authentische freie Tanz als kreatives Ausdrucksmittel und als Z
 ugang zu sich selbst. Du brauchst keine besondere Tanzerfahrung oder einen
  fitten Körper\, selbst im Sitzen ist vieles möglich.\n\nDu bist willkom
 men\, genauso wie es dir gerade geht.\n\nDas Angebot findet jeweils mittwo
 chs statt und baut aufeinander auf.\n30.4./7.5./14.5./21.5.\n\nTanz aus de
 m Kopf in den Körper 
ATTACH;FMTTYPE=image/jpeg:https://www.begegnungszentrum-cura.ch/wp-content
 /uploads/2024/04/Mood_ueber_CURA-scaled.jpg
CATEGORIES:Begegnungszentrum CURA
LOCATION:Begegnungszentrum CURA\, Lukas Legrand-Strasse 22\, Basel\, 4058\,
  Schweiz
X-APPLE-STRUCTURED-LOCATION;VALUE=URI;X-ADDRESS=Lukas Legrand-Strasse 22\, 
 Basel\, 4058\, Schweiz;X-APPLE-RADIUS=100;X-TITLE=Begegnungszentrum CURA:g
 eo:0,0
END:VEVENT
BEGIN:VTIMEZONE
TZID:Europe/Zurich
X-LIC-LOCATION:Europe/Zurich
BEGIN:DAYLIGHT
DTSTART:20250330T030000
TZOFFSETFROM:+0100
TZOFFSETTO:+0200
TZNAME:CEST
END:DAYLIGHT
END:VTIMEZONE
END:VCALENDAR